BEGIN:VCALENDAR
VERSION:2.0
PRODID:-//Indian Health Alliance - ECPv6.15.13//NONSGML v1.0//EN
CALSCALE:GREGORIAN
METHOD:PUBLISH
X-WR-CALNAME:Indian Health Alliance
X-ORIGINAL-URL:https://indianhealthalliance.org
X-WR-CALDESC:Events for Indian Health Alliance
REFRESH-INTERVAL;VALUE=DURATION:PT1H
X-Robots-Tag:noindex
X-PUBLISHED-TTL:PT1H
BEGIN:VTIMEZONE
TZID:UTC
BEGIN:STANDARD
TZOFFSETFROM:+0000
TZOFFSETTO:+0000
TZNAME:UTC
DTSTART:20190101T000000
END:STANDARD
END:VTIMEZONE
BEGIN:VEVENT
DTSTART;TZID=UTC:20260107T121500
DTEND;TZID=UTC:20260107T130000
DTSTAMP:20260421T201024
CREATED:20260119T052150Z
LAST-MODIFIED:20260119T052150Z
UID:3357-1767788100-1767790800@indianhealthalliance.org
SUMMARY:Meeting with Mr. Samwartak Singh IAS\, Director SCERT Haryana
DESCRIPTION:
URL:https://indianhealthalliance.org/event/meeting-with-mr-samwartak-singh-ias-director-scert-haryana/
END:VEVENT
BEGIN:VEVENT
DTSTART;TZID=UTC:20251010T000000
DTEND;TZID=UTC:20251010T000000
DTSTAMP:20260421T201024
CREATED:20251110T094145Z
LAST-MODIFIED:20251110T094448Z
UID:3134-1760054400-1760054400@indianhealthalliance.org
SUMMARY:Meeting with Mr. Sanjay Kumar\, IAS
DESCRIPTION:
URL:https://indianhealthalliance.org/event/meeting-with-mr-sanjay-kumar-ias/
END:VEVENT
BEGIN:VEVENT
DTSTART;TZID=UTC:20251008T000000
DTEND;TZID=UTC:20251008T000000
DTSTAMP:20260421T201024
CREATED:20251110T094402Z
LAST-MODIFIED:20251110T094421Z
UID:3136-1759881600-1759881600@indianhealthalliance.org
SUMMARY:Meeting with Shri Gajanan Londhe\, Head NSTC (National Syllabus and Teaching Material Committee)\, Program Office\, NCERT
DESCRIPTION:
URL:https://indianhealthalliance.org/event/meeting-with-shri-gajanan/
END:VEVENT
BEGIN:VEVENT
DTSTART;TZID=UTC:20250920T000000
DTEND;TZID=UTC:20250920T000000
DTSTAMP:20260421T201024
CREATED:20251110T094555Z
LAST-MODIFIED:20251110T094612Z
UID:3138-1758326400-1758326400@indianhealthalliance.org
SUMMARY:India needs more focus to reach SDG 3\, a crucial goal The Hindu Article
DESCRIPTION:
URL:https://indianhealthalliance.org/event/india-needs-more-focus-to-reach-sdg-3-a-crucial-goal-the-hindu-article/
END:VEVENT
BEGIN:VEVENT
DTSTART;TZID=UTC:20250619T080000
DTEND;TZID=UTC:20250619T170000
DTSTAMP:20260421T201024
CREATED:20250804T101714Z
LAST-MODIFIED:20250804T101714Z
UID:2893-1750320000-1750352400@indianhealthalliance.org
SUMMARY:NIT 5 shortlisted for Best School in Healthy Lives.
DESCRIPTION:
URL:https://indianhealthalliance.org/event/nit-5-shortlisted-for-best-school-in-healthy-lives/
END:VEVENT
BEGIN:VEVENT
DTSTART;TZID=UTC:20250430T000000
DTEND;TZID=UTC:20250501T000000
DTSTAMP:20260421T201024
CREATED:20251110T094716Z
LAST-MODIFIED:20251110T094740Z
UID:3140-1745971200-1746057600@indianhealthalliance.org
SUMMARY:Visit to the Haryana Government Schools under CSHP(Comprehensive School Health Program) by the team from NCERT and MoE (Ministry of Education)
DESCRIPTION:
URL:https://indianhealthalliance.org/event/comprehensive-school-health-program/
END:VEVENT
BEGIN:VEVENT
DTSTART;TZID=UTC:20250423T080000
DTEND;TZID=UTC:20250423T170000
DTSTAMP:20260421T201024
CREATED:20250804T101548Z
LAST-MODIFIED:20251110T092326Z
UID:2891-1745395200-1745427600@indianhealthalliance.org
SUMMARY:543210 Health Mantra Campaign
DESCRIPTION:
URL:https://indianhealthalliance.org/event/543210-campaign/
END:VEVENT
BEGIN:VEVENT
DTSTART;TZID=UTC:20241226T080000
DTEND;TZID=UTC:20241226T170000
DTSTAMP:20260421T201024
CREATED:20250122T053640Z
LAST-MODIFIED:20260112T131803Z
UID:2339-1735200000-1735232400@indianhealthalliance.org
SUMMARY:India’s UNESCO Chair representative calls for integrating health education into NIPUN Bharat
DESCRIPTION:India’s UNESCO Chair representative calls for integrating health education into NIPUN Bharat\n     \n\n        India Education Diary\n        BW Education\n    \n\n\n        Tarang Health Alliance’s Linkedin\n        Tarang Health Alliance’s Facebook\nEducation Post\nTarang Health Alliance’s Linkedin\nTarang Health Alliance’s Facebook\nTarang Health Alliance’s Twitter
URL:https://indianhealthalliance.org/event/indias-unesco-health-education-nipun-bharat/
END:VEVENT
BEGIN:VEVENT
DTSTART;TZID=UTC:20241113T080000
DTEND;TZID=UTC:20241113T170000
DTSTAMP:20260421T201024
CREATED:20250122T072319Z
LAST-MODIFIED:20250122T082234Z
UID:2367-1731484800-1731517200@indianhealthalliance.org
SUMMARY:Scientist wants Haryana to lead with mandatory health education to address air pollution
DESCRIPTION:Scientist wants Haryana to lead with mandatory health education to address air pollution\n     \n\n        The Statesman\n    \n\n        Hindustan Times\n        Jagmarg News\n    \n\n        Haryana.Punjab kesari\n        Dainik Tribune Online\nANI News
URL:https://indianhealthalliance.org/event/scientist-wants-haryana-health-education/
END:VEVENT
BEGIN:VEVENT
DTSTART;TZID=UTC:20240428T080000
DTEND;TZID=UTC:20240502T170000
DTSTAMP:20260421T201024
CREATED:20240605T105310Z
LAST-MODIFIED:20240605T120631Z
UID:1986-1714291200-1714669200@indianhealthalliance.org
SUMMARY:Dr Rahul Mehra’s visit 28th April to 2nd May
DESCRIPTION:Dr Rahul Mehra Executive Chairman Tarang Health Alliance\, Representative of India- UNESCO Chair for Global Health and Education visits India twice a year for interaction with students and teachers/management of schools running Comprehensive School Health Program for middle school students.. During his India visit in April-May 2024 \, he visited Jaipur from 28th April to 02 May 2024. The report below captures day wise various activities that took place while he was at Jaipur.  \n28th April 2024\nDr Rahul Mehra arrived at Jaipur. He was received by Mr Umardin and escorted to Jhalana Officers Institute\, Jaipur\, where he stayed during the visit duration. \n29th April 2024-M\nMeeting with Apurv Kumar\, owner Clark Group of Hotels. Participants along with  Mr Apurva Kumar were Dr Rahul Mehra\, Mr Vikram Rastogi \, Capt. Ruma Peter and Dr Gargee. This was a follow up meeting . Earlier Mr Bakshi\, Wg Cdr Kala (Retd.) and Dr Gargee Gopesh had met Mr Apurv Kumar  where in he had shown interest in meeting Dr Mehra. \nKey Highlights\n\nMr Apurv Kumar informed the team about philanthropic work that he and his wife are engaged in. He elaborated on their contribution towards skill development and education.\nHe congratulated and appreciated Dr Rahul Mehra for CSHP developed by him. He shared his thoughts on ways to enhance the impact of the program. Some of his inputs are :-\n\nCreate  video content with cartoons and animated characters.\nRecord lectures of Dr Rahul (short and long)\nBring an internationally renowned nutritionist in the panel of CSHP.\n\nDuring the meeting possibility of presenting CSHP to political leadership in state of Rajasthan\, so as to implement it in Govt. schools was also discussed. During the discussion Mr Kumar suggested that he would help arrange a meeting with political leadership right at top. He suggested that we create a PPT of not more than 5 minutes covering  global statistics and  health education indices  and rather than ‘Bottom Up’ approach it should be ‘Global to Rajasthan’ approach. He emphasised that this presentation should focus the program as the initiative of the government and us as the advisors to the government. \nMr Kumar showed keen interest in corporate health program related inputs shared  by Dr Mehra. Mr Apurv seemed keenly interested in connecting their in-house doctor to Dr Rahul for further discussion. We at CWC could pursue it further.\n\n30th April\n\nGeeta Bajaj Bal Mandir school Jaipur- Parent engagement session.\n\nDr Rahul Mehra\, Rastogi Ji and Capt. Ruma Peter attended the program. School Director Gurudev Singh and his wife\, School Principal Jha sir and Administrator Mr Pareek along with school teachers\, students of classes 7th and 8th and 20-25 parents were present. Mr Patni Ji was also present as guest in the program.\nWe received a warm welcome from the team. School Director Gurudev Singh introduced all the guests and also the historical importance of the school.\nThe school students performed a beautiful welcome song.\nDr Rahul Mehra gave a lecture demonstration touching upon the topics of nutrition\, sugar and salt intake\, Anaemia and parents as role models.\nParents and students were very interactive and asked multiple questions to Dr Rahul\nThe session ended with a brief meeting with the management of the school and CSHP teachers. Dr Rahul appreciated the efforts and encouraged the teachers to stay passionate and motivated.\n\nCWC Team meeting and lunch at CWC office\n\nDr Rahul Mehra\, Rastogi Ji\, Capt. Ruma Peter\, Dr Gargee\, Sharad sir\, Umardin Ji and Shah Sahab were present.\nInformal discussion on various topics happened during this time. Sharad sir spoke about the benefits of various Ayurvedic practices and developments happening at present and benefits of yoga and Ayurveda in daily life of people.\n\nDinner engagement of Dr Rahul Mehra with Dr Gargee and Mr Gopesh.\n\nDr Gargee and her husband Mr Gopesh invited Dr Rahul over dinner.\n\n\n1st May\n\nMeeting with Principal AVM Jhotwara-\n\nDr Rahul Mehra\, Rastogi Ji\, Capt. Ruma Peter attended the meeting. Principal Raghuveer Ji\, one senior member of the school management\, secretary of the school management were present.\nConcerning topics regarding implementation of CSHP\, requirement of teacher\, collaboration of the school and health analysis of the students were discussed.\nDr Rahul emphasised the need and necessity of parent engagement sessions.\nMs Sarita\, Headmistress of middle school\, also joined the meeting later.\nThe Principal assured that he will fully cooperate with us and discuss these issues with Principal of Vaishali branch and higher authorities if needed.\nOne of the senior member of AVM management who was present in the meeting suggested that a letter from CWC may be written to the AVM management via school regarding their requirements to fulfil the need of the program.\nThe meeting was concluded with the action point by the school that they will discuss the matter internally first and on a suitable day a meeting will be fixed with Capt Ruma where activity calendar for this year can be discussed.\n\nParent Engagement session at AVM Vaishali-\n\nDr Rahul Mehra\, Rastogi Ji\, Capt. Ruma Peter and Dr Gargee attended the program. Principal Jagdish Prasad\, Chairperson AVM Jaipur Dr Vijay Goyal\, Ms Divya Gupta along with school teachers\, students and 20-25 parents were present for this session.\nMs Divya introduced each and every one. Students performed welcome song as well as traditional welcome of the guests was done.\nDr Rahul Mehra gave a lecture demonstration touching upon the topics of nutrition\, sugar and salt intake\, Anaemia and parents as role models.\n\nParents and students were very interactive and asked multiple questions to Dr Rahul.\nThe session ended with a brief meeting with the management of the school and CSHP teachers. Dr Rahul appreciated the efforts and encouraged the teachers to stay passionate and motivated.\nDeep discussion with Dr Vijay Goyal and Dr Rahul Mehra\, helped him understand the program in depth.\n\n\nLunch with CWC team-\n\nDr Rahul Mehra\, Capt. Ruma Peter\, Dr Gargee and Sharad sir were present.\nInformal discussions on various topics took place.\n\nMeeting at Jaipur Rugs-\n\nDr Rahul Mehra\, Capt. Ruma Peter\, Dr Gargee and Sharad sir were present. In the Jaipur rugs team Mr Choudhary\, Mr Vishal\, Sameeksha and Mr Amkur Tiwari  were present.\nDr Gargee introduced Dr Rahul to Mr Choudhary. Dr Rahul and Mr Choudhary briefly discussed on their work.\nMr Vishal was very vocal about how this program can impact the children of the women workers of Jaipur rugs. Both teams brainstormed the possibility and challenges for pitching CSHP as a non-school program.\nMr Vishal discussed the possibility of a master training class that can be done for volunteers provided by Jaipur rugs.\nDr Rahul suggested that the Jaipur Rugs team should start by maintaining health card of these children and assessing the need of this program.\nJaipur rugs team will create a database of children studying in classes 6th\, 7th and 8th and further evaluating the sample size for the program.\nBoth teams agreed that more brainstorming and discussion is required with respect to CSHP.\nDinner engagement of Dr Rahul Mehra by Sharad sir\n\nSharad sir invited Dr Rahul over dinner.\n\n2nd May\n\nMeeting with Principal Devendra Ji\, Gujarati Samaj school\, Jaipur.\n\nDr Rahul and Dr Gargee attended the meeting. Principal and teacher Ms Priyanka were present.\nDr Rahul enjoyed his interaction with  Principal Debendra Ji who is a health champion and keenly interested in the Health Program.\nThe team visited the school and Dr Rahul appreciated the healthy teacher-student ratio at the school.\nThe school has historic significance and despite all odds is driven to cater for the minority and weaker section of the society in the field of education.\n\nParent engagement session at Vimukti Girls School\, Jaipur\n\nDr Rahul and Dr Gargee attended the program\, Principal Jyoti ji\, teachers\, students and around 30 parents were present.\nThe students performed yoga/gymnastics in front of the guests. Students also sang a welcome song.\n10 students were felicitated with medals as health and wellness champions.\nStudents who painted the height chart were felicitated by cash prize by CWC.\nHighlight of visit was inauguration of a CWC Health and Wellness Corner in the school. As  part of inaugural ceremony the students conducted health parameter check-up for their parents in which they measured their height\, weight\, BP and BMI.\nDr Rahul Mehra gave a lecture demonstration touching upon the topics of nutrition\, sugar and salt intake\, Anaemia and parents as role models.\nParents and students were very interactive and asked multiple questions to Dr Rahul.\nMr Vijay Gupta and his wife were present with their team and their BMI machine. The parents were very inquisitive and made benefit out of the same.\nDr Rahul was highly impressed by the efforts of Vimukti team.\n\nLunch with CWC team-\n\nDr Rahul Mehra\, Dr Gargee\, Sharad sir and Umardin ji were present.Informal discussions on various topics took place.\n\nCWC team and Dr Rahul Mehra reached CWC office post-lunch. Dr Rahul Mehra was escorted byUmardin ji to the railway station to board the train for Delhi.\n\nMedia coverage of the event
URL:https://indianhealthalliance.org/event/dr-rahul-mehras-visit-28th-april-to-2nd-may/
ATTACH;FMTTYPE=image/jpeg:https://indianhealthalliance.org/wp-content/uploads/2024/06/Dr-Rahul-Mehras-visit-28th-April-to-2nd-May-imge.jpg
END:VEVENT
BEGIN:VEVENT
DTSTART;TZID=UTC:20240412T080000
DTEND;TZID=UTC:20240510T170000
DTSTAMP:20260421T201024
CREATED:20240523T122749Z
LAST-MODIFIED:20240605T113012Z
UID:1912-1712908800-1715360400@indianhealthalliance.org
SUMMARY:April 6-May 4: Dr.Mehra visited all the Schools in Delhi NCR\, Chandigarh area and Jaipur that we are partnering with in 2024-25
DESCRIPTION:April 6-May 4 – Dr.Mehra met with the principal and teachers of about 25 schools in Delhi NCR\, Chandigarh area and Jaipur that we are partnering with in 2024-25. In government schools\, Tarang employees will teach and implement the program. In private schools\, Tarang will train their teachers to do the same. Books will be provided at no cost to all the school students and teachers. \nApril 11 \n\n\nApril 9
URL:https://indianhealthalliance.org/event/april-6-may-4-dr-mehra-visited-all-the-schools-in-delhi-ncr-chandigarh-area-and-jaipur-that-we-are-partnering-with-in-2024-25/
ATTACH;FMTTYPE=image/jpeg:https://indianhealthalliance.org/wp-content/uploads/2024/05/school-visit7.jpg
END:VEVENT
BEGIN:VEVENT
DTSTART;TZID=UTC:20240411T080000
DTEND;TZID=UTC:20240411T170000
DTSTAMP:20260421T201024
CREATED:20240523T123644Z
LAST-MODIFIED:20240523T123747Z
UID:1921-1712822400-1712854800@indianhealthalliance.org
SUMMARY:Dr.Mehra gave certificates to Principals\, health coordinators and teachers of all schools who partnered with us in 2023-24
DESCRIPTION:
URL:https://indianhealthalliance.org/event/dr-mehra-gave-certificates-to-principals-health-coordinators-and-teachers-of-all-schools-who-partnered-with-us-in-2023-24/
ATTACH;FMTTYPE=image/jpeg:https://indianhealthalliance.org/wp-content/uploads/2024/05/cer2.jpg
END:VEVENT
BEGIN:VEVENT
DTSTART;TZID=UTC:20240409T080000
DTEND;TZID=UTC:20240409T170000
DTSTAMP:20260421T201024
CREATED:20240523T123714Z
LAST-MODIFIED:20240523T123757Z
UID:1931-1712649600-1712682000@indianhealthalliance.org
SUMMARY:Health education Introductory classes taken by Dr.Rahul Mehra in all the 12 Government schools under the program.
DESCRIPTION:
URL:https://indianhealthalliance.org/event/health-education-introductory-classes-taken-by-dr-rahul-mehra-in-all-the-12-government-schools-under-the-program/
END:VEVENT
BEGIN:VEVENT
DTSTART;TZID=UTC:20240407T080000
DTEND;TZID=UTC:20240407T170000
DTSTAMP:20260421T201024
CREATED:20240523T123850Z
LAST-MODIFIED:20240523T123934Z
UID:1933-1712476800-1712509200@indianhealthalliance.org
SUMMARY:Parent engagement session conducted by Dr.Rahul Mehra in Government Senior Secondary School\, Suketri\, Panchkula.
DESCRIPTION:
URL:https://indianhealthalliance.org/event/parent-engagement-session-conducted-by-dr-rahul-mehra-in-government-senior-secondary-school-suketri-panchkula/
END:VEVENT
BEGIN:VEVENT
DTSTART;TZID=UTC:20240406T080000
DTEND;TZID=UTC:20240506T170000
DTSTAMP:20260421T201024
CREATED:20240328T060731Z
LAST-MODIFIED:20240523T064004Z
UID:1326-1712390400-1715014800@indianhealthalliance.org
SUMMARY:Dr. Mehra visited partner schools in Delhi NCR\, Chandigarh area and Jaipur.
DESCRIPTION:
URL:https://indianhealthalliance.org/event/dr-mehra-visit-partner-schools-in-delhi-ncr-chandigarh-area-and-jaipur/
END:VEVENT
BEGIN:VEVENT
DTSTART;TZID=UTC:20240124T080000
DTEND;TZID=UTC:20240124T170000
DTSTAMP:20260421T201024
CREATED:20240328T061247Z
LAST-MODIFIED:20240328T061247Z
UID:1331-1706083200-1706115600@indianhealthalliance.org
SUMMARY:MOU signed between Tarang and School Education Dept of Govt. of Haryana
DESCRIPTION:MOU signed between Tarang and School Education Dept of Govt. of Haryana to implement school health program for Class VI and VII students in twelve Government schools of Panchkula\, Gurugram and Faridabad.
URL:https://indianhealthalliance.org/event/mou-signed-between-tarang-and-school-education-dept-of-govt-of-haryana/
END:VEVENT
BEGIN:VEVENT
DTSTART;TZID=UTC:20240119T120000
DTEND;TZID=UTC:20240119T160000
DTSTAMP:20260421T201024
CREATED:20231228T064956Z
LAST-MODIFIED:20231228T102929Z
UID:64-1705665600-1705680000@indianhealthalliance.org
SUMMARY:Design Thinking Workshop
DESCRIPTION:
URL:https://indianhealthalliance.org/event/design-thinking-workshop/
ATTACH;FMTTYPE=image/jpeg:https://indianhealthalliance.org/wp-content/uploads/2023/12/crw_465h_465.jpg
END:VEVENT
BEGIN:VEVENT
DTSTART;TZID=UTC:20231220T080000
DTEND;TZID=UTC:20250831T170000
DTSTAMP:20260421T201024
CREATED:20240831T071011Z
LAST-MODIFIED:20240831T071321Z
UID:2049-1703059200-1756659600@indianhealthalliance.org
SUMMARY:Tarang Health Alliance (December 2023)
DESCRIPTION:
URL:https://indianhealthalliance.org/event/tarang-health-alliance-december-2023/
END:VEVENT
BEGIN:VEVENT
DTSTART;TZID=UTC:20231216T120000
DTEND;TZID=UTC:20231216T160000
DTSTAMP:20260421T201024
CREATED:20231228T064859Z
LAST-MODIFIED:20240523T113506Z
UID:62-1702728000-1702742400@indianhealthalliance.org
SUMMARY:Principals Meet
DESCRIPTION:
URL:https://indianhealthalliance.org/event/principals-meet/
ATTACH;FMTTYPE=image/jpeg:https://indianhealthalliance.org/wp-content/uploads/2023/12/principal-meet-event.jpg
END:VEVENT
BEGIN:VEVENT
DTSTART;TZID=UTC:20231214T120000
DTEND;TZID=UTC:20231214T160000
DTSTAMP:20260421T201024
CREATED:20231228T064750Z
LAST-MODIFIED:20240521T120310Z
UID:60-1702555200-1702569600@indianhealthalliance.org
SUMMARY:International Seminar on Best Practices for implementation of School Health program in 2023-2024
DESCRIPTION:
URL:https://indianhealthalliance.org/event/international-seminar-on-best-practices-for-implementation-of-school-health-program-in-2023-2024/
ATTACH;FMTTYPE=image/jpeg:https://indianhealthalliance.org/wp-content/uploads/2023/12/seminar-img.jpg
END:VEVENT
BEGIN:VEVENT
DTSTART;TZID=UTC:20230922T080000
DTEND;TZID=UTC:20230922T170000
DTSTAMP:20260421T201024
CREATED:20240328T061647Z
LAST-MODIFIED:20240328T062022Z
UID:1342-1695369600-1695402000@indianhealthalliance.org
SUMMARY:International Seminar on best practices for implementation of School Health Program hosted by Tarang Health Alliance
DESCRIPTION:
URL:https://indianhealthalliance.org/event/international-seminar-on-best-practices-for-implementation-of-school-health-program-hosted-by-tarang-health-alliance/
END:VEVENT
BEGIN:VEVENT
DTSTART;TZID=UTC:20200403T080000
DTEND;TZID=UTC:20200403T170000
DTSTAMP:20260421T201024
CREATED:20240328T062752Z
LAST-MODIFIED:20251104T212444Z
UID:1344-1585900800-1585933200@indianhealthalliance.org
SUMMARY:Dr.Mehra is appointed the National Representative of India\, UNESCO Chair for Global Health & Education.
DESCRIPTION:
URL:https://indianhealthalliance.org/event/dr-mehra-is-appointed-the-national-representative-of-india-unesco-chair-for-global-health-education/
END:VEVENT
END:VCALENDAR